BEGIN:VCALENDAR
VERSION:2.0
PRODID:-//AnandChowdhary//calendar-link//EN
BEGIN:VEVENT
DTSTART:20260721T120000Z
DTEND:20260721T190000Z
DTSTAMP:20260421T193041Z
SUMMARY:El Injerto Auction
DESCRIPTION:We take pride in crafting award-winning coffee, a symbol of our dedication to excellence. From our rich farm soil to skilled hands, every step is guided by passion. Through teamwork and innovation, we strive for perfection. Taste world-class coffee, shaped by years of care and love for the craft.
LOCATION:https://elinjerto.v-auction.com
UID:39087
END:VEVENT
END:VCALENDAR
